BEGIN:VCALENDAR
VERSION:2.0
PRODID:-//Community Theatre of Terre Haute - ECPv6.14.2//NONSGML v1.0//EN
CALSCALE:GREGORIAN
METHOD:PUBLISH
X-ORIGINAL-URL:https://ctth.org
X-WR-CALDESC:Events for Community Theatre of Terre Haute
REFRESH-INTERVAL;VALUE=DURATION:PT1H
X-Robots-Tag:noindex
X-PUBLISHED-TTL:PT1H
BEGIN:VTIMEZONE
TZID:UTC
BEGIN:STANDARD
TZOFFSETFROM:+0000
TZOFFSETTO:+0000
TZNAME:UTC
DTSTART:20260101T000000
END:STANDARD
END:VTIMEZONE
BEGIN:VEVENT
DTSTART;TZID=UTC:20260216T190000
DTEND;TZID=UTC:20260217T210000
DTSTAMP:20260420T141612
CREATED:20260104T210006Z
LAST-MODIFIED:20260104T211211Z
UID:3434-1771268400-1771362000@ctth.org
SUMMARY:Auditions: Love\, Loss\, and What I Wore
DESCRIPTION:CASTING CALLFebruary 16 & 17\, 2026 at 7:00 p.m.Love\, Loss\, and What I Wore (comedy/drama)by Nora Ephron and Delia EphronDirected by Amber Wigington Rated R Show Dates: April 10 – April 12\, 2026 A play of monologues and ensemble pieces about women\, clothes and memory covering all the important subjects—mothers\, prom dresses\, mothers\, buying bras\, mothers\, hating purses and why we only wear black. Based on the bestselling book by Ilene Beckerman. Audition & Casting Information5 female-identifying characters See our Audition Page for more information. For questions\, please contact casting@ctth.org. 								\n				\n					\n		\n					\n		\n				\n						\n					\n			\n						\n				\n							\n			\n		\n						\n				\n				\n				\n							\n			\n						\n		\n						\n				\n					\n		\n					\n		\n				\n						\n					\n			\n						\n				\n					Details				\n				\n				\n				\n					\n		\n			February 16\n\n		\n	\n	  -  \n\n	February 17\n\n	\n				\n				\n				\n				\n					\n	\n\n	Categories:	\n		Auditions	\n\n				\n				\n					\n		\n				\n			\n						\n				\n					Venue				\n				\n				\n				\n					\n				\n				\n	\n	Oakley Stage\n	\n	\n\n1431 S. 25th Street\n	\n		\n		Terre Haute\,\n\n	IN\n\n	47803\n\n	United States\n\n\n\n\n	+ Google Map \n\n\n	\n					\n						\n	 \n\n\n	\n	View Venue Website
URL:https://ctth.org/event/auditions-love-loss/
LOCATION:Oakley Stage\, 1431 S. 25th Street\, Terre Haute\, IN\, 47803\, United States
CATEGORIES:Auditions
ATTACH;FMTTYPE=image/png:https://ctth.org/wp-content/uploads/2026/01/Logo-Freaky-Friday_web-copy.png
END:VEVENT
BEGIN:VEVENT
DTSTART;TZID=UTC:20260106T190000
DTEND;TZID=UTC:20260107T210000
DTSTAMP:20260420T141612
CREATED:20251007T023328Z
LAST-MODIFIED:20251007T024304Z
UID:3334-1767726000-1767819600@ctth.org
SUMMARY:Auditions: Freaky Friday
DESCRIPTION:CASTING CALLFebruary 16 & 17\, 2026 at 7:00 p.m.Love\, Loss\, and What I Wore (comedy/drama)by Nora Ephron and Delia EphronDirected by Amber Wigington Rated R Show Dates: April 10 – April 12\, 2026 A play of monologues and ensemble pieces about women\, clothes and memory covering all the important subjects—mothers\, prom dresses\, mothers\, buying bras\, mothers\, hating purses and why we only wear black. Based on the bestselling book by Ilene Beckerman. Audition & Casting Information5 female-identifying characters See our Audition Page for more information. For questions\, please contact casting@ctth.org. 								\n				\n					\n		\n					\n		\n				\n						\n					\n			\n						\n				\n							\n			\n		\n						\n				\n				\n				\n							\n			\n						\n		\n						\n				\n					\n		\n					\n		\n				\n						\n					\n			\n						\n				\n					Details				\n				\n				\n				\n					\n		\n			February 16\n\n		\n	\n	  -  \n\n	February 17\n\n	\n				\n				\n				\n				\n					\n	\n\n	Categories:	\n		Auditions	\n\n				\n				\n					\n		\n				\n			\n						\n				\n					Venue				\n				\n				\n				\n					\n				\n				\n	\n	Oakley Stage\n	\n	\n\n1431 S. 25th Street\n	\n		\n		Terre Haute\,\n\n	IN\n\n	47803\n\n	United States\n\n\n\n\n	+ Google Map \n\n\n	\n					\n						\n	 \n\n\n	\n	View Venue Website
URL:https://ctth.org/event/auditions-freaky-friday/
LOCATION:Mainstage Auditorium\, 1431 S. 25th Street\, Terre Haute\, IN\, 47803\, United States
CATEGORIES:Auditions
ATTACH;FMTTYPE=image/png:https://ctth.org/wp-content/uploads/2025/07/Logo-Freaky-Friday_web.png
END:VEVENT
END:VCALENDAR