BEGIN:VCALENDAR
VERSION:2.0
PRODID:-//Community Theatre of Terre Haute - ECPv6.14.2//NONSGML v1.0//EN
CALSCALE:GREGORIAN
METHOD:PUBLISH
X-ORIGINAL-URL:https://ctth.org
X-WR-CALDESC:Events for Community Theatre of Terre Haute
REFRESH-INTERVAL;VALUE=DURATION:PT1H
X-Robots-Tag:noindex
X-PUBLISHED-TTL:PT1H
BEGIN:VTIMEZONE
TZID:UTC
BEGIN:STANDARD
TZOFFSETFROM:+0000
TZOFFSETTO:+0000
TZNAME:UTC
DTSTART:20260101T000000
END:STANDARD
END:VTIMEZONE
BEGIN:VEVENT
DTSTART;VALUE=DATE:20260508
DTEND;VALUE=DATE:20260518
DTSTAMP:20260420T073041
CREATED:20250707T201041Z
LAST-MODIFIED:20260303T015709Z
UID:2550-1778198400-1779062399@ctth.org
SUMMARY:These Shining Lives
DESCRIPTION:CASTING CALLFebruary 16 & 17\, 2026 at 7:00 p.m.Love\, Loss\, and What I Wore (comedy/drama)by Nora Ephron and Delia EphronDirected by Amber Wigington Rated R Show Dates: April 10 – April 12\, 2026 A play of monologues and ensemble pieces about women\, clothes and memory covering all the important subjects—mothers\, prom dresses\, mothers\, buying bras\, mothers\, hating purses and why we only wear black. Based on the bestselling book by Ilene Beckerman. Audition & Casting Information5 female-identifying characters See our Audition Page for more information. For questions\, please contact casting@ctth.org. 								\n				\n					\n		\n					\n		\n				\n						\n					\n			\n						\n				\n							\n			\n		\n						\n				\n				\n				\n							\n			\n						\n		\n						\n				\n					\n		\n					\n		\n				\n						\n					\n			\n						\n				\n					Details				\n				\n				\n				\n					\n		\n			February 16\n\n		\n	\n	  -  \n\n	February 17\n\n	\n				\n				\n				\n				\n					\n	\n\n	Categories:	\n		Auditions	\n\n				\n				\n					\n		\n				\n			\n						\n				\n					Venue				\n				\n				\n				\n					\n				\n				\n	\n	Oakley Stage\n	\n	\n\n1431 S. 25th Street\n	\n		\n		Terre Haute\,\n\n	IN\n\n	47803\n\n	United States\n\n\n\n\n	+ Google Map \n\n\n	\n					\n						\n	 \n\n\n	\n	View Venue Website
URL:https://ctth.org/event/test-event-2/
LOCATION:Mainstage Auditorium\, 1431 S. 25th Street\, Terre Haute\, IN\, 47803\, United States
CATEGORIES:Shows
ATTACH;FMTTYPE=image/png:https://ctth.org/wp-content/uploads/2025/07/Logo-These-Shining-Lives_web.png
END:VEVENT
END:VCALENDAR